Package: qvalue Version: 2.40.0 Command: /home/biocbuild/R/R/bin/R CMD build --keep-empty-dirs --no-resave-data qvalue StartedAt: 2025-10-03 03:44:23 -0000 (Fri, 03 Oct 2025) EndedAt: 2025-10-03 03:44:38 -0000 (Fri, 03 Oct 2025) EllapsedTime: 15.0 seconds RetCode: 0 Status: OK PackageFile: qvalue_2.40.0.tar.gz PackageFileSize: 2.637 MiB