Package: qvalue Version: 2.40.0 Command: /Library/Frameworks/R.framework/Resources/bin/R CMD build --keep-empty-dirs --no-resave-data qvalue StartedAt: 2025-10-14 07:13:20 -0400 (Tue, 14 Oct 2025) EndedAt: 2025-10-14 07:13:43 -0400 (Tue, 14 Oct 2025) EllapsedTime: 22.9 seconds RetCode: 0 Status: OK PackageFile: qvalue_2.40.0.tar.gz PackageFileSize: 2.645 MiB