Package: qusage Version: 2.44.0 Command: /home/biocbuild/bbs-3.22-bioc/R/bin/R CMD INSTALL qusage StartedAt: 2025-11-11 15:16:38 -0500 (Tue, 11 Nov 2025) EndedAt: 2025-11-11 15:16:48 -0500 (Tue, 11 Nov 2025) EllapsedTime: 9.8 seconds RetCode: 0 Status: OK