Package: qusage Version: 2.44.0 Command: /home/biocbuild/bbs-3.22-bioc/R/bin/R CMD build --keep-empty-dirs --no-resave-data --md5 qusage StartedAt: 2025-11-11 19:34:54 -0500 (Tue, 11 Nov 2025) EndedAt: 2025-11-11 19:39:47 -0500 (Tue, 11 Nov 2025) EllapsedTime: 293.2 seconds RetCode: 0 Status: OK PackageFile: qusage_2.44.0.tar.gz PackageFileSize: 9.649 MiB