Package: qusage Version: 2.42.0 Command: /home/biocbuild/bbs-3.21-bioc/R/bin/R CMD build --keep-empty-dirs --no-resave-data qusage StartedAt: 2025-10-15 19:18:56 -0400 (Wed, 15 Oct 2025) EndedAt: 2025-10-15 19:23:45 -0400 (Wed, 15 Oct 2025) EllapsedTime: 289.3 seconds RetCode: 0 Status: OK PackageFile: qusage_2.42.0.tar.gz PackageFileSize: 9.648 MiB