Package: qusage Version: 2.42.0 Command: /Library/Frameworks/R.framework/Resources/bin/R CMD build --keep-empty-dirs --no-resave-data qusage StartedAt: 2025-04-21 18:03:45 -0400 (Mon, 21 Apr 2025) EndedAt: 2025-04-21 18:10:16 -0400 (Mon, 21 Apr 2025) EllapsedTime: 391.0 seconds RetCode: 0 Status: OK PackageFile: qusage_2.42.0.tar.gz PackageFileSize: 9.669 MiB