Package: qusage Version: 2.42.0 Command: /Library/Frameworks/R.framework/Resources/bin/R CMD build --keep-empty-dirs --no-resave-data qusage StartedAt: 2025-10-14 07:12:04 -0400 (Tue, 14 Oct 2025) EndedAt: 2025-10-14 07:19:57 -0400 (Tue, 14 Oct 2025) EllapsedTime: 472.6 seconds RetCode: 0 Status: OK PackageFile: qusage_2.42.0.tar.gz PackageFileSize: 9.67 MiB