Package: quantsmooth Version: 1.76.0 Command: /home/biocbuild/bbs-3.22-bioc/R/bin/R CMD INSTALL quantsmooth StartedAt: 2025-11-11 15:09:21 -0500 (Tue, 11 Nov 2025) EndedAt: 2025-11-11 15:09:26 -0500 (Tue, 11 Nov 2025) EllapsedTime: 5.6 seconds RetCode: 0 Status: OK