Package: quantsmooth Version: 1.74.0 Command: /home/biocbuild/bbs-3.21-bioc/R/bin/R CMD INSTALL quantsmooth StartedAt: 2025-10-15 15:04:46 -0400 (Wed, 15 Oct 2025) EndedAt: 2025-10-15 15:04:52 -0400 (Wed, 15 Oct 2025) EllapsedTime: 6.7 seconds RetCode: 0 Status: OK