Package: quantsmooth Version: 1.74.0 Command: /home/biocbuild/bbs-3.21-bioc/R/bin/R CMD build --keep-empty-dirs --no-resave-data quantsmooth StartedAt: 2025-10-15 19:18:39 -0400 (Wed, 15 Oct 2025) EndedAt: 2025-10-15 19:18:50 -0400 (Wed, 15 Oct 2025) EllapsedTime: 11.0 seconds RetCode: 0 Status: OK PackageFile: quantsmooth_1.74.0.tar.gz PackageFileSize: 339.9 KiB