Package: quantsmooth Version: 1.74.0 Command: /home/biocbuild/R/R/bin/R CMD build --keep-empty-dirs --no-resave-data quantsmooth StartedAt: 2025-09-26 05:04:56 -0000 (Fri, 26 Sep 2025) EndedAt: 2025-09-26 05:05:13 -0000 (Fri, 26 Sep 2025) EllapsedTime: 17.0 seconds RetCode: 0 Status: OK PackageFile: quantsmooth_1.74.0.tar.gz PackageFileSize: 336.4 KiB