Package: quantsmooth Version: 1.74.0 Command: /Library/Frameworks/R.framework/Resources/bin/R CMD build --keep-empty-dirs --no-resave-data quantsmooth StartedAt: 2025-10-14 07:08:56 -0400 (Tue, 14 Oct 2025) EndedAt: 2025-10-14 07:09:13 -0400 (Tue, 14 Oct 2025) EllapsedTime: 16.9 seconds RetCode: 0 Status: OK PackageFile: quantsmooth_1.74.0.tar.gz PackageFileSize: 338.1 KiB