Package: quantsmooth Version: 1.74.0 Command: rm -rf quantsmooth.buildbin-libdir && mkdir quantsmooth.buildbin-libdir && /Users/biocbuild/BBS/utils/build-universal.sh quantsmooth_1.74.0.tar.gz /Library/Frameworks/R.framework/Resources/bin/R quantsmooth.buildbin-libdir StartedAt: 2025-10-15 19:56:00 -0400 (Wed, 15 Oct 2025) EndedAt: 2025-10-15 19:56:09 -0400 (Wed, 15 Oct 2025) EllapsedTime: 9.0 seconds RetCode: 0 Status: OK PackageFile: quantsmooth_1.74.0.tgz PackageFileSize: 419.9 KiB