Package: quantro Version: 1.44.0 Command: /home/biocbuild/bbs-3.22-bioc/R/bin/R CMD build --keep-empty-dirs --no-resave-data --md5 quantro StartedAt: 2025-11-11 19:34:24 -0500 (Tue, 11 Nov 2025) EndedAt: 2025-11-11 19:36:04 -0500 (Tue, 11 Nov 2025) EllapsedTime: 100.1 seconds RetCode: 0 Status: OK PackageFile: quantro_1.44.0.tar.gz PackageFileSize: 2.765 MiB