Package: quantro Version: 1.44.0 Command: rm -rf quantro.buildbin-libdir && mkdir quantro.buildbin-libdir && /Users/biocbuild/BBS/utils/build-universal.sh quantro_1.44.0.tar.gz /Library/Frameworks/R.framework/Resources/bin/R quantro.buildbin-libdir StartedAt: 2025-11-10 23:32:16 -0500 (Mon, 10 Nov 2025) EndedAt: 2025-11-10 23:32:37 -0500 (Mon, 10 Nov 2025) EllapsedTime: 20.5 seconds RetCode: 0 Status: OK PackageFile: quantro_1.44.0.tgz PackageFileSize: 3.134 MiB