Package: quantiseqr Version: 1.18.0 Command: /home/biocbuild/R/R/bin/R CMD INSTALL quantiseqr StartedAt: 2025-11-13 21:38:55 -0000 (Thu, 13 Nov 2025) EndedAt: 2025-11-13 21:39:25 -0000 (Thu, 13 Nov 2025) EllapsedTime: 30.0 seconds RetCode: 0 Status: OK