Package: quantiseqr Version: 1.18.0 Command: /home/biocbuild/R/R/bin/R CMD build --keep-empty-dirs --no-resave-data quantiseqr StartedAt: 2025-11-14 04:23:42 -0000 (Fri, 14 Nov 2025) EndedAt: 2025-11-14 04:25:17 -0000 (Fri, 14 Nov 2025) EllapsedTime: 95.0 seconds RetCode: 0 Status: OK PackageFile: quantiseqr_1.18.0.tar.gz PackageFileSize: 2.665 MiB