Package: quantiseqr Version: 1.18.0 Command: /home/biocbuild/bbs-3.22-bioc/R/bin/R CMD INSTALL quantiseqr StartedAt: 2025-11-11 15:34:56 -0500 (Tue, 11 Nov 2025) EndedAt: 2025-11-11 15:35:20 -0500 (Tue, 11 Nov 2025) EllapsedTime: 24.4 seconds RetCode: 0 Status: OK