Package: quantiseqr Version: 1.18.0 Command: /home/biocbuild/bbs-3.22-bioc/R/bin/R CMD check --install=check:quantiseqr.install-out.txt --library=/home/biocbuild/bbs-3.22-bioc/R/site-library --timings quantiseqr_1.18.0.tar.gz StartedAt: 2025-11-15 03:19:41 -0500 (Sat, 15 Nov 2025) EndedAt: 2025-11-15 03:23:47 -0500 (Sat, 15 Nov 2025) EllapsedTime: 246.3 seconds RetCode: 0 Status: OK CheckDir: quantiseqr.Rcheck Warnings: 0