Package: quantiseqr Version: 1.16.0 Command: /home/biocbuild/bbs-3.21-bioc/R/bin/R CMD build --keep-empty-dirs --no-resave-data quantiseqr StartedAt: 2025-10-15 19:18:21 -0400 (Wed, 15 Oct 2025) EndedAt: 2025-10-15 19:19:26 -0400 (Wed, 15 Oct 2025) EllapsedTime: 65.1 seconds RetCode: 0 Status: OK PackageFile: quantiseqr_1.16.0.tar.gz PackageFileSize: 3.603 MiB