Package: quantiseqr Version: 1.16.0 Command: /Library/Frameworks/R.framework/Resources/bin/R CMD INSTALL quantiseqr StartedAt: 2025-10-13 16:48:20 -0400 (Mon, 13 Oct 2025) EndedAt: 2025-10-13 16:48:48 -0400 (Mon, 13 Oct 2025) EllapsedTime: 27.9 seconds RetCode: 0 Status: OK