Package: quantiseqr Version: 1.16.0 Command: /Library/Frameworks/R.framework/Resources/bin/R CMD build --keep-empty-dirs --no-resave-data quantiseqr StartedAt: 2025-10-14 07:08:29 -0400 (Tue, 14 Oct 2025) EndedAt: 2025-10-14 07:09:58 -0400 (Tue, 14 Oct 2025) EllapsedTime: 89.3 seconds RetCode: 0 Status: OK PackageFile: quantiseqr_1.16.0.tar.gz PackageFileSize: 3.655 MiB