Package: quantiseqr Version: 1.16.0 Command: rm -rf quantiseqr.buildbin-libdir && mkdir quantiseqr.buildbin-libdir && /Users/biocbuild/BBS/utils/build-universal.sh quantiseqr_1.16.0.tar.gz /Library/Frameworks/R.framework/Resources/bin/R quantiseqr.buildbin-libdir StartedAt: 2025-10-15 19:55:57 -0400 (Wed, 15 Oct 2025) EndedAt: 2025-10-15 19:56:29 -0400 (Wed, 15 Oct 2025) EllapsedTime: 31.7 seconds RetCode: 0 Status: OK PackageFile: quantiseqr_1.16.0.tgz PackageFileSize: 3.61 MiB