Package: quantiseqr Version: 1.18.0 Maintainer: Federico Marini MaintainerEmail: marinif at uni-mainz.de git_url: https://git.bioconductor.org/packages/quantiseqr git_branch: RELEASE_3_22 git_last_commit: 4091b22 git_last_commit_date: 2025-10-29 11:08:45 -0400 (Wed, 29 Oct 2025)