Package: qsmooth Version: 1.26.0 Command: /home/biocbuild/bbs-3.22-bioc/R/bin/R CMD INSTALL qsmooth StartedAt: 2025-11-11 15:33:14 -0500 (Tue, 11 Nov 2025) EndedAt: 2025-11-11 15:33:47 -0500 (Tue, 11 Nov 2025) EllapsedTime: 33.3 seconds RetCode: 0 Status: OK