Package: qsmooth Version: 1.26.0 Command: /Library/Frameworks/R.framework/Resources/bin/R CMD INSTALL qsmooth StartedAt: 2025-11-03 15:31:02 -0500 (Mon, 03 Nov 2025) EndedAt: 2025-11-03 15:31:46 -0500 (Mon, 03 Nov 2025) EllapsedTime: 43.9 seconds RetCode: 0 Status: OK