Package: qsmooth Version: 1.24.0 Command: /home/biocbuild/R/R/bin/R CMD INSTALL qsmooth StartedAt: 2025-10-13 20:43:51 -0000 (Mon, 13 Oct 2025) EndedAt: 2025-10-13 20:44:36 -0000 (Mon, 13 Oct 2025) EllapsedTime: 45.4 seconds RetCode: 0 Status: OK