Package: qsmooth Version: 1.24.0 Command: /home/biocbuild/R/R/bin/R CMD build --keep-empty-dirs --no-resave-data qsmooth StartedAt: 2025-10-14 03:45:42 -0000 (Tue, 14 Oct 2025) EndedAt: 2025-10-14 03:47:16 -0000 (Tue, 14 Oct 2025) EllapsedTime: 94.0 seconds RetCode: 0 Status: OK PackageFile: qsmooth_1.24.0.tar.gz PackageFileSize: 1.318 MiB