Package: qpgraph Version: 2.44.0 Command: /home/biocbuild/R/R/bin/R CMD INSTALL qpgraph StartedAt: 2025-11-17 21:50:49 -0000 (Mon, 17 Nov 2025) EndedAt: 2025-11-17 21:52:03 -0000 (Mon, 17 Nov 2025) EllapsedTime: 74.0 seconds RetCode: 0 Status: OK