Package: qpgraph Version: 2.44.0 Command: /home/biocbuild/R/R/bin/R CMD build --keep-empty-dirs --no-resave-data qpgraph StartedAt: 2025-11-18 04:12:42 -0000 (Tue, 18 Nov 2025) EndedAt: 2025-11-18 04:17:52 -0000 (Tue, 18 Nov 2025) EllapsedTime: 310.3 seconds RetCode: 0 Status: OK PackageFile: qpgraph_2.44.0.tar.gz PackageFileSize: 2.663 MiB