Package: qpgraph Version: 2.44.0 Command: /home/biocbuild/bbs-3.22-bioc/R/bin/R CMD check --install=check:qpgraph.install-out.txt --library=/home/biocbuild/bbs-3.22-bioc/R/site-library --timings qpgraph_2.44.0.tar.gz StartedAt: 2025-11-14 03:05:39 -0500 (Fri, 14 Nov 2025) EndedAt: 2025-11-14 03:12:02 -0500 (Fri, 14 Nov 2025) EllapsedTime: 383.4 seconds RetCode: 0 Status: OK CheckDir: qpgraph.Rcheck Warnings: 0