Package: qpgraph Version: 2.44.0 Command: /home/biocbuild/bbs-3.22-bioc/R/bin/R CMD build --keep-empty-dirs --no-resave-data --md5 qpgraph StartedAt: 2025-11-13 19:32:37 -0500 (Thu, 13 Nov 2025) EndedAt: 2025-11-13 19:34:26 -0500 (Thu, 13 Nov 2025) EllapsedTime: 109.1 seconds RetCode: 0 Status: OK PackageFile: qpgraph_2.44.0.tar.gz PackageFileSize: 2.705 MiB