Package: qpgraph Version: 2.42.0 Command: /Library/Frameworks/R.framework/Resources/bin/R CMD INSTALL qpgraph StartedAt: 2025-10-13 17:25:56 -0400 (Mon, 13 Oct 2025) EndedAt: 2025-10-13 17:27:01 -0400 (Mon, 13 Oct 2025) EllapsedTime: 65.1 seconds RetCode: 0 Status: OK