Package: qpgraph Version: 2.42.0 Command: /Library/Frameworks/R.framework/Resources/bin/R CMD build --keep-empty-dirs --no-resave-data qpgraph StartedAt: 2025-10-14 07:05:25 -0400 (Tue, 14 Oct 2025) EndedAt: 2025-10-14 07:08:02 -0400 (Tue, 14 Oct 2025) EllapsedTime: 157.0 seconds RetCode: 0 Status: OK PackageFile: qpgraph_2.42.0.tar.gz PackageFileSize: 2.705 MiB