Package: qpgraph Version: 2.42.0 Command: rm -rf qpgraph.buildbin-libdir && mkdir qpgraph.buildbin-libdir && /Users/biocbuild/BBS/utils/build-universal.sh qpgraph_2.42.0.tar.gz /Library/Frameworks/R.framework/Resources/bin/R qpgraph.buildbin-libdir StartedAt: 2025-10-15 19:54:57 -0400 (Wed, 15 Oct 2025) EndedAt: 2025-10-15 19:56:11 -0400 (Wed, 15 Oct 2025) EllapsedTime: 74.3 seconds RetCode: 0 Status: OK PackageFile: qpgraph_2.42.0.tgz PackageFileSize: 4.09 MiB