Package: qpcrNorm Version: 1.68.0 Command: /home/biocbuild/bbs-3.22-bioc/R/bin/R CMD INSTALL qpcrNorm StartedAt: 2025-11-17 17:13:52 -0500 (Mon, 17 Nov 2025) EndedAt: 2025-11-17 17:13:55 -0500 (Mon, 17 Nov 2025) EllapsedTime: 3.9 seconds RetCode: 0 Status: OK