Package: qmtools Version: 1.12.0 Command: /home/biocbuild/bbs-3.21-bioc/R/bin/R CMD INSTALL qmtools StartedAt: 2025-10-12 15:18:14 -0400 (Sun, 12 Oct 2025) EndedAt: 2025-10-12 15:18:39 -0400 (Sun, 12 Oct 2025) EllapsedTime: 25.4 seconds RetCode: 0 Status: OK