Package: qcmetrics Version: 1.48.0 Command: /Library/Frameworks/R.framework/Resources/bin/R CMD INSTALL qcmetrics StartedAt: 2025-11-03 15:19:53 -0500 (Mon, 03 Nov 2025) EndedAt: 2025-11-03 15:20:06 -0500 (Mon, 03 Nov 2025) EllapsedTime: 13.2 seconds RetCode: 0 Status: OK