Package: qcmetrics Version: 1.48.0 Command: /Library/Frameworks/R.framework/Resources/bin/R CMD build --keep-empty-dirs --no-resave-data qcmetrics StartedAt: 2025-11-03 18:20:11 -0500 (Mon, 03 Nov 2025) EndedAt: 2025-11-03 18:20:46 -0500 (Mon, 03 Nov 2025) EllapsedTime: 35.4 seconds RetCode: 0 Status: OK PackageFile: qcmetrics_1.48.0.tar.gz PackageFileSize: 4.217 MiB