Package: qcmetrics Version: 1.46.0 Command: /home/biocbuild/R/R/bin/R CMD INSTALL qcmetrics StartedAt: 2025-10-09 20:25:42 -0000 (Thu, 09 Oct 2025) EndedAt: 2025-10-09 20:25:54 -0000 (Thu, 09 Oct 2025) EllapsedTime: 11.8 seconds RetCode: 0 Status: OK