Package: qcmetrics Version: 1.46.0 Command: /home/biocbuild/R/R/bin/R CMD build --keep-empty-dirs --no-resave-data qcmetrics StartedAt: 2025-10-10 03:40:26 -0000 (Fri, 10 Oct 2025) EndedAt: 2025-10-10 03:41:11 -0000 (Fri, 10 Oct 2025) EllapsedTime: 45.0 seconds RetCode: 0 Status: OK PackageFile: qcmetrics_1.46.0.tar.gz PackageFileSize: 4.278 MiB