Package: qckitfastq Version: 1.26.0 Command: /Library/Frameworks/R.framework/Resources/bin/R CMD INSTALL qckitfastq StartedAt: 2025-11-03 16:00:45 -0500 (Mon, 03 Nov 2025) EndedAt: 2025-11-03 16:00:45 -0500 (Mon, 03 Nov 2025) EllapsedTime: 0.2 seconds RetCode: 1 Status: ERROR