Package: qckitfastq Version: 1.26.0 Command: /Library/Frameworks/R.framework/Resources/bin/R CMD build --keep-empty-dirs --no-resave-data qckitfastq StartedAt: 2025-11-03 18:20:08 -0500 (Mon, 03 Nov 2025) EndedAt: 2025-11-03 18:20:11 -0500 (Mon, 03 Nov 2025) EllapsedTime: 2.3 seconds RetCode: 1 Status: ERROR PackageFile: None PackageFileSize: NA