Package: qckitfastq Version: 1.24.0 Command: /home/biocbuild/R/R/bin/R CMD build --keep-empty-dirs --no-resave-data qckitfastq StartedAt: 2025-10-10 03:40:24 -0000 (Fri, 10 Oct 2025) EndedAt: 2025-10-10 03:41:16 -0000 (Fri, 10 Oct 2025) EllapsedTime: 52.0 seconds RetCode: 0 Status: OK PackageFile: qckitfastq_1.24.0.tar.gz PackageFileSize: 968 KiB