Package: qPLEXanalyzer Version: 1.28.0 Command: /home/biocbuild/R/R/bin/R CMD INSTALL qPLEXanalyzer StartedAt: 2025-11-13 21:46:20 -0000 (Thu, 13 Nov 2025) EndedAt: 2025-11-13 21:47:15 -0000 (Thu, 13 Nov 2025) EllapsedTime: 54.2 seconds RetCode: 0 Status: OK