Package: qPLEXanalyzer Version: 1.28.0 Command: /home/biocbuild/R/R/bin/R CMD build --keep-empty-dirs --no-resave-data qPLEXanalyzer StartedAt: 2025-11-14 04:22:42 -0000 (Fri, 14 Nov 2025) EndedAt: 2025-11-14 04:24:10 -0000 (Fri, 14 Nov 2025) EllapsedTime: 88.0 seconds RetCode: 1 Status: ERROR PackageFile: None PackageFileSize: NA