Package: qPLEXanalyzer Version: 1.28.0 Command: /home/biocbuild/bbs-3.22-bioc/R/bin/R CMD INSTALL qPLEXanalyzer StartedAt: 2025-11-11 15:41:15 -0500 (Tue, 11 Nov 2025) EndedAt: 2025-11-11 15:41:57 -0500 (Tue, 11 Nov 2025) EllapsedTime: 41.8 seconds RetCode: 0 Status: OK