Package: qPLEXanalyzer Version: 1.28.0 Command: /home/biocbuild/bbs-3.22-bioc/R/bin/R CMD build --keep-empty-dirs --no-resave-data --md5 qPLEXanalyzer StartedAt: 2025-11-11 19:33:40 -0500 (Tue, 11 Nov 2025) EndedAt: 2025-11-11 19:34:44 -0500 (Tue, 11 Nov 2025) EllapsedTime: 64.1 seconds RetCode: 1 Status: ERROR PackageFile: None PackageFileSize: NA