Package: qPLEXanalyzer Version: 1.26.0 Command: /Library/Frameworks/R.framework/Resources/bin/R CMD INSTALL qPLEXanalyzer StartedAt: 2025-10-13 17:04:33 -0400 (Mon, 13 Oct 2025) EndedAt: 2025-10-13 17:05:22 -0400 (Mon, 13 Oct 2025) EllapsedTime: 48.2 seconds RetCode: 0 Status: OK