Package: qPLEXanalyzer Version: 1.26.0 Command: /Library/Frameworks/R.framework/Resources/bin/R CMD build --keep-empty-dirs --no-resave-data qPLEXanalyzer StartedAt: 2025-10-14 07:05:49 -0400 (Tue, 14 Oct 2025) EndedAt: 2025-10-14 07:07:16 -0400 (Tue, 14 Oct 2025) EllapsedTime: 87.4 seconds RetCode: 0 Status: OK PackageFile: qPLEXanalyzer_1.26.0.tar.gz PackageFileSize: 3.622 MiB